BEGIN:VCALENDAR
VERSION:2.0
PRODID:-//pretix//pretix.eu//
BEGIN:VTIMEZONE
TZID:Europe/Berlin
BEGIN:STANDARD
DTSTART:20001029T040000
RRULE:FREQ=YEARLY;BYDAY=-1SU;BYMONTH=10
TZNAME:CET
TZOFFSETFROM:+0200
TZOFFSETTO:+0100
END:STANDARD
BEGIN:DAYLIGHT
DTSTART:20000326T030000
RRULE:FREQ=YEARLY;BYDAY=-1SU;BYMONTH=3
TZNAME:CEST
TZOFFSETFROM:+0100
TZOFFSETTO:+0200
END:DAYLIGHT
END:VTIMEZONE
BEGIN:VEVENT
UID:pretix-imker-honig23-0@honig.rostingen.de
DTSTART;TZID=Europe/Berlin:20230706T000000
DTEND;TZID=Europe/Berlin:20230706T010000
DESCRIPTION:Tickets: https://honig.rostingen.de/honig23/\nVeranstalter: Imk
 er René Rohner
DTSTAMP:20260421T095228Z
SUMMARY:Honigverkauf 2023
END:VEVENT
END:VCALENDAR
